BEGIN:VCALENDAR
VERSION:2.0
PRODID:-//Debbie Sardone | Cleaning Business Consultant - ECPv6.15.16//NONSGML v1.0//EN
CALSCALE:GREGORIAN
METHOD:PUBLISH
X-WR-CALNAME:Debbie Sardone | Cleaning Business Consultant
X-ORIGINAL-URL:https://debbiesardone.com
X-WR-CALDESC:Events for Debbie Sardone | Cleaning Business Consultant
REFRESH-INTERVAL;VALUE=DURATION:PT1H
X-Robots-Tag:noindex
X-PUBLISHED-TTL:PT1H
BEGIN:VTIMEZONE
TZID:America/Chicago
BEGIN:DAYLIGHT
TZOFFSETFROM:-0600
TZOFFSETTO:-0500
TZNAME:CDT
DTSTART:20250309T080000
END:DAYLIGHT
BEGIN:STANDARD
TZOFFSETFROM:-0500
TZOFFSETTO:-0600
TZNAME:CST
DTSTART:20251102T070000
END:STANDARD
BEGIN:DAYLIGHT
TZOFFSETFROM:-0600
TZOFFSETTO:-0500
TZNAME:CDT
DTSTART:20260308T080000
END:DAYLIGHT
BEGIN:STANDARD
TZOFFSETFROM:-0500
TZOFFSETTO:-0600
TZNAME:CST
DTSTART:20261101T070000
END:STANDARD
BEGIN:DAYLIGHT
TZOFFSETFROM:-0600
TZOFFSETTO:-0500
TZNAME:CDT
DTSTART:20270314T080000
END:DAYLIGHT
BEGIN:STANDARD
TZOFFSETFROM:-0500
TZOFFSETTO:-0600
TZNAME:CST
DTSTART:20271107T070000
END:STANDARD
END:VTIMEZONE
BEGIN:VEVENT
DTSTART;TZID=America/Chicago:20260401T190000
DTEND;TZID=America/Chicago:20260401T200000
DTSTAMP:20260423T053430
CREATED:20260323T144946Z
LAST-MODIFIED:20260323T144952Z
UID:7941-1775070000-1775073600@debbiesardone.com
SUMMARY:The Couples Blueprint™
DESCRIPTION:If you and your partner run a cleaning business together\, you already know the business can take over everything if you let it.That’s why we created The Couples Blueprint for Cleaning Business Success. A live\, month-by-month journey where couples learn how to build a thriving business and a thriving marriage at the same time.This program is all about giving you: clearer communication better boundaries healthier rhythms more unity and a shared vision you’re actually excited about \n\n\n\nThroughout the program\, you’ll be building your own Couples Blueprint\, a customized guide for how your relationship and your business can work together instead of against each other.If this sounds like you\, get registered
URL:https://debbiesardone.com/event/the-couples-blueprint/
ATTACH;FMTTYPE=image/png:https://debbiesardone.com/wp-content/uploads/Thinkific-Banners-54.png
ORGANIZER;CN="Cleaning Business Fundamentals":MAILTO:contact@debbiesardone.com
END:VEVENT
END:VCALENDAR